BEGIN:VCALENDAR
VERSION:2.0
PRODID:-//Heartland Connect - ECPv6.15.20//NONSGML v1.0//EN
CALSCALE:GREGORIAN
METHOD:PUBLISH
X-ORIGINAL-URL:https://www.heartlandconnect.biz
X-WR-CALDESC:Events for Heartland Connect
REFRESH-INTERVAL;VALUE=DURATION:PT1H
X-Robots-Tag:noindex
X-PUBLISHED-TTL:PT1H
BEGIN:VTIMEZONE
TZID:America/Denver
BEGIN:DAYLIGHT
TZOFFSETFROM:-0700
TZOFFSETTO:-0600
TZNAME:MDT
DTSTART:20250309T090000
END:DAYLIGHT
BEGIN:STANDARD
TZOFFSETFROM:-0600
TZOFFSETTO:-0700
TZNAME:MST
DTSTART:20251102T080000
END:STANDARD
BEGIN:DAYLIGHT
TZOFFSETFROM:-0700
TZOFFSETTO:-0600
TZNAME:MDT
DTSTART:20260308T090000
END:DAYLIGHT
BEGIN:STANDARD
TZOFFSETFROM:-0600
TZOFFSETTO:-0700
TZNAME:MST
DTSTART:20261101T080000
END:STANDARD
BEGIN:DAYLIGHT
TZOFFSETFROM:-0700
TZOFFSETTO:-0600
TZNAME:MDT
DTSTART:20270314T090000
END:DAYLIGHT
BEGIN:STANDARD
TZOFFSETFROM:-0600
TZOFFSETTO:-0700
TZNAME:MST
DTSTART:20271107T080000
END:STANDARD
END:VTIMEZONE
BEGIN:VEVENT
DTSTART;TZID=America/Denver:20261110T173000
DTEND;TZID=America/Denver:20261110T173000
DTSTAMP:20260419T111257
CREATED:20260304T220037Z
LAST-MODIFIED:20260304T231046Z
UID:23890-1794331800-1794331800@www.heartlandconnect.biz
SUMMARY:November Heartland Connect 2026
DESCRIPTION:As we approach the season of gratitude\, it’s a great time to reflect on the power of relationships in business. Join us in celebrating the connections we’ve built and discover new opportunities to give\, receive\, and grow together.
URL:https://www.heartlandconnect.biz/event/november-heartland-connect-2026/
LOCATION:Overdrive Raceway\, 196 Spectrum Loop\, Colorado Springs\, CO\, 80921\, United States
CATEGORIES:Business Networking
ORGANIZER;CN="Dave Gustafson":MAILTO:dgus@wsipeakdigital.com
END:VEVENT
END:VCALENDAR