BEGIN:VCALENDAR
VERSION:2.0
PRODID:-//Heartland Connect - ECPv6.15.20//NONSGML v1.0//EN
CALSCALE:GREGORIAN
METHOD:PUBLISH
X-WR-CALNAME:Heartland Connect
X-ORIGINAL-URL:https://www.heartlandconnect.biz
X-WR-CALDESC:Events for Heartland Connect
REFRESH-INTERVAL;VALUE=DURATION:PT1H
X-Robots-Tag:noindex
X-PUBLISHED-TTL:PT1H
BEGIN:VTIMEZONE
TZID:America/Denver
BEGIN:DAYLIGHT
TZOFFSETFROM:-0700
TZOFFSETTO:-0600
TZNAME:MDT
DTSTART:20220313T090000
END:DAYLIGHT
BEGIN:STANDARD
TZOFFSETFROM:-0600
TZOFFSETTO:-0700
TZNAME:MST
DTSTART:20221106T080000
END:STANDARD
BEGIN:DAYLIGHT
TZOFFSETFROM:-0700
TZOFFSETTO:-0600
TZNAME:MDT
DTSTART:20230312T090000
END:DAYLIGHT
BEGIN:STANDARD
TZOFFSETFROM:-0600
TZOFFSETTO:-0700
TZNAME:MST
DTSTART:20231105T080000
END:STANDARD
BEGIN:DAYLIGHT
TZOFFSETFROM:-0700
TZOFFSETTO:-0600
TZNAME:MDT
DTSTART:20240310T090000
END:DAYLIGHT
BEGIN:STANDARD
TZOFFSETFROM:-0600
TZOFFSETTO:-0700
TZNAME:MST
DTSTART:20241103T080000
END:STANDARD
END:VTIMEZONE
BEGIN:VEVENT
DTSTART;TZID=America/Denver:20230701T080000
DTEND;TZID=America/Denver:20230701T120000
DTSTAMP:20260420T191028
CREATED:20230501T140006Z
LAST-MODIFIED:20230501T150733Z
UID:20495-1688198400-1688212800@www.heartlandconnect.biz
SUMMARY:Guided Butterfly Hike to Upper Palmer Lake Reservoir
DESCRIPTION:This will be a 2-4 mile hike to show & teach you about the local butterfly species that inhabit the Palmer Lake Reservoir Trail. We will encounter & identify roughly 20-30 different species of local butterflies during our time together. This hike is great for anyone in moderate health and is great to bring the kids along (we will ascend a moderate hill to get up and visit the reservoir & main lake – our pace will be slow). If you haven’t made this hike previously\, you will be very happy you came along to see one of the more beautiful areas around. \nFirst 20 people to register and pay will be accepted. \nThe tour will include water\, snacks and a guide sheet of common local butterflies. \nClick here to Reserve your spot!
URL:https://www.heartlandconnect.biz/event/guided-butterfly-hike-to-upper-palmer-lake-reservoir-july-1-2023/
LOCATION:Palmer Lake Reservoir Trailhead\, Palmer Lake Reservoir Trailhead\, Palmer Lake\, CO\, 80133\, United States
CATEGORIES:Butterfly Event
ATTACH;FMTTYPE=image/jpeg:https://www.heartlandconnect.biz/wp-content/uploads/2023/05/butterfly-swallowtail-July1-300x300-1.jpg
ORGANIZER;CN="Steve Fisher":MAILTO:steven.fisher@e-hps.com
END:VEVENT
BEGIN:VEVENT
DTSTART;TZID=America/Denver:20230729T080000
DTEND;TZID=America/Denver:20230729T120000
DTSTAMP:20260420T191028
CREATED:20230725T150252Z
LAST-MODIFIED:20230726T181610Z
UID:20505-1690617600-1690632000@www.heartlandconnect.biz
SUMMARY:Guided Butterfly Hike to Upper Palmer Lake Reservoir
DESCRIPTION:This will be a 2-4 mile hike to show & teach you about the local butterfly species that inhabit the Palmer Lake Reservoir Trail. We will encounter & identify roughly 20-30 different species of local butterflies during our time together. This hike is great for anyone in moderate health and is great to bring the kids along (we will ascend a moderate hill to get up and visit the reservoir & main lake – our pace will be slow). If you haven’t made this hike previously\, you will be very happy you came along to see one of the more beautiful areas around. \nFirst 20 people to register and pay will be accepted. \nThe tour will include water\, snacks and a guide sheet of common local butterflies. \nClick here to Reserve your spot!
URL:https://www.heartlandconnect.biz/event/guided-butterfly-hike-to-upper-palmer-lake-reservoir-july-8-2023/
LOCATION:Palmer Lake Reservoir Trailhead\, Palmer Lake Reservoir Trailhead\, Palmer Lake\, CO\, 80133\, United States
CATEGORIES:Butterfly Event
ATTACH;FMTTYPE=image/jpeg:https://www.heartlandconnect.biz/wp-content/uploads/2022/05/butterfly-swallowtail-July8-300x300-1.jpg
ORGANIZER;CN="Steve Fisher":MAILTO:steven.fisher@e-hps.com
END:VEVENT
END:VCALENDAR