BEGIN:VCALENDAR
VERSION:2.0
PRODID:-//Heartland Connect - ECPv6.15.20//NONSGML v1.0//EN
CALSCALE:GREGORIAN
METHOD:PUBLISH
X-ORIGINAL-URL:https://www.heartlandconnect.biz
X-WR-CALDESC:Events for Heartland Connect
REFRESH-INTERVAL;VALUE=DURATION:PT1H
X-Robots-Tag:noindex
X-PUBLISHED-TTL:PT1H
BEGIN:VTIMEZONE
TZID:America/Denver
BEGIN:DAYLIGHT
TZOFFSETFROM:-0700
TZOFFSETTO:-0600
TZNAME:MDT
DTSTART:20200308T090000
END:DAYLIGHT
BEGIN:STANDARD
TZOFFSETFROM:-0600
TZOFFSETTO:-0700
TZNAME:MST
DTSTART:20201101T080000
END:STANDARD
BEGIN:DAYLIGHT
TZOFFSETFROM:-0700
TZOFFSETTO:-0600
TZNAME:MDT
DTSTART:20210314T090000
END:DAYLIGHT
BEGIN:STANDARD
TZOFFSETFROM:-0600
TZOFFSETTO:-0700
TZNAME:MST
DTSTART:20211107T080000
END:STANDARD
BEGIN:DAYLIGHT
TZOFFSETFROM:-0700
TZOFFSETTO:-0600
TZNAME:MDT
DTSTART:20220313T090000
END:DAYLIGHT
BEGIN:STANDARD
TZOFFSETFROM:-0600
TZOFFSETTO:-0700
TZNAME:MST
DTSTART:20221106T080000
END:STANDARD
END:VTIMEZONE
BEGIN:VEVENT
DTSTART;TZID=America/Denver:20210814T070000
DTEND;TZID=America/Denver:20210814T140000
DTSTAMP:20260423T084940
CREATED:20210720T190149Z
LAST-MODIFIED:20230731T182254Z
UID:12612-1628924400-1628949600@www.heartlandconnect.biz
SUMMARY:Heartland Connect 2021 Charity Golf Tournament
DESCRIPTION:The Annual Heartland Connect Tournament is Saturday\, August 14th\, 2021!\n\n\n\n\nThe tournament will be a Shot-Gun start at 8:00AM sharp at Pine Creek Golf Course\n\n\nIt will be a scramble format with fun rules on each hole\n\n\nPrizes for 1st\, 2nd\, 3rd place teams and 4 long drive and 4 closest to the pin winners\n\n\nALL proceeds will be donated to Tri-Lakes Cares\n\n\nFor each paid player or sponsor\, breakfast will be a burrito and a full lunch will be served at the end of the round with an awards & recognition ceremony
URL:https://www.heartlandconnect.biz/event/heartland-connect-2021-charity-golf-tournament/
LOCATION:Pine Creek Golf Club\, 9850 Divot Trail\, Colorado Springs\, CO\, 80920\, United States
CATEGORIES:Golf
ATTACH;FMTTYPE=image/jpeg:https://www.heartlandconnect.biz/wp-content/uploads/2021/06/HeartlandGold2020_Olivedia_Facebook-3747.jpg
ORGANIZER;CN="Steve Fisher":MAILTO:steven.fisher@e-hps.com
END:VEVENT
END:VCALENDAR