BEGIN:VCALENDAR
VERSION:2.0
PRODID:-//Heartland Connect - ECPv6.15.20//NONSGML v1.0//EN
CALSCALE:GREGORIAN
METHOD:PUBLISH
X-WR-CALNAME:Heartland Connect
X-ORIGINAL-URL:https://www.heartlandconnect.biz
X-WR-CALDESC:Events for Heartland Connect
REFRESH-INTERVAL;VALUE=DURATION:PT1H
X-Robots-Tag:noindex
X-PUBLISHED-TTL:PT1H
BEGIN:VTIMEZONE
TZID:America/Denver
BEGIN:DAYLIGHT
TZOFFSETFROM:-0700
TZOFFSETTO:-0600
TZNAME:MDT
DTSTART:20220313T090000
END:DAYLIGHT
BEGIN:STANDARD
TZOFFSETFROM:-0600
TZOFFSETTO:-0700
TZNAME:MST
DTSTART:20221106T080000
END:STANDARD
BEGIN:DAYLIGHT
TZOFFSETFROM:-0700
TZOFFSETTO:-0600
TZNAME:MDT
DTSTART:20230312T090000
END:DAYLIGHT
BEGIN:STANDARD
TZOFFSETFROM:-0600
TZOFFSETTO:-0700
TZNAME:MST
DTSTART:20231105T080000
END:STANDARD
BEGIN:DAYLIGHT
TZOFFSETFROM:-0700
TZOFFSETTO:-0600
TZNAME:MDT
DTSTART:20240310T090000
END:DAYLIGHT
BEGIN:STANDARD
TZOFFSETFROM:-0600
TZOFFSETTO:-0700
TZNAME:MST
DTSTART:20241103T080000
END:STANDARD
END:VTIMEZONE
BEGIN:VEVENT
DTSTART;TZID=America/Denver:20230918T073000
DTEND;TZID=America/Denver:20230918T170000
DTSTAMP:20260421T162421
CREATED:20230731T183125Z
LAST-MODIFIED:20230731T183143Z
UID:22100-1695022200-1695056400@www.heartlandconnect.biz
SUMMARY:Heartland Connect Golf Tournament 2023
DESCRIPTION:We are happy to support Tri-Lakes Cares\, and last year’s event helped raise over $13\,000 for the organization that looks after families in need in northern El Paso County. For 2023\, our goal is to raise over $20\,000 for TLC! There are opportunities to Play\, Sponsor and Volunteer!
URL:https://www.heartlandconnect.biz/event/heartland-connect-golf-tournament-2023/
LOCATION:Pine Creek Golf Club\, 9850 Divot Trail\, Colorado Springs\, CO\, 80920\, United States
CATEGORIES:Golf
ATTACH;FMTTYPE=image/jpeg:https://www.heartlandconnect.biz/wp-content/uploads/2023/07/Heartland-Connect-2022-Collage.jpeg
ORGANIZER;CN="Steve Fisher":MAILTO:steven.fisher@e-hps.com
END:VEVENT
END:VCALENDAR